BEGIN:VCALENDAR
VERSION:2.0
PRODID:-//Tukios.com/
BEGIN:VEVENT
UID:3711e0b2-0b46-4dbb-bb43-1cf1234e8213@www.eernissefuneralhome.com
DTSTAMP:20260422T190256Z
DTSTART:20260426T190000Z
DTEND:20260426T210000Z
SUMMARY:Memorial Gathering
DESCRIPTION:
URL:https://www.eernissefuneralhome.com/obituaries/thomas-tatterson
LOCATION:Eernisse Funeral Home 1167 Washington Avenue  Cedarburg WI 53012
GEO:43.3172547;-88.0026924
END:VEVENT
END:VCALENDAR