BEGIN:VCALENDAR
VERSION:2.0
PRODID:-//Tukios.com/
BEGIN:VEVENT
UID:bc5697b5-2848-4965-ad0a-5f60fa879b7c@www.eernissefuneralhome.com
DTSTAMP:20260422T014503Z
DTSTART:20260428T210000Z
DTEND:20260428T220000Z
SUMMARY:Mass
DESCRIPTION:
URL:https://www.eernissefuneralhome.com/obituaries/rosemary-nett
LOCATION: 451 N. Johnson Street  Port Washington WI 53074
GEO:43.3919688;-87.8695905
END:VEVENT
END:VCALENDAR