BEGIN:VCALENDAR
VERSION:2.0
PRODID:-//Tukios.com/
BEGIN:VEVENT
UID:e67a107d-d751-4c1e-9e3f-97c0cd002bdd@www.eernissefuneralhome.com
DTSTAMP:20260422T014426Z
DTSTART:20260428T190000Z
DTEND:20260428T210000Z
SUMMARY:Visitation
DESCRIPTION:
URL:https://www.eernissefuneralhome.com/obituaries/rosemary-nett
LOCATION: 451 N. Johnson Street  Port Washington WI 53074
GEO:43.3919688;-87.8695905
END:VEVENT
END:VCALENDAR