BEGIN:VCALENDAR
VERSION:2.0
PRODID:-//Tukios.com/
BEGIN:VEVENT
UID:ae92ff86-d51e-46b5-8aa6-dacb3f6b56e3@www.eernissefuneralhome.com
DTSTAMP:20260423T230513Z
DTSTART:20260501T153000Z
DTEND:20260501T163000Z
SUMMARY:Mass
DESCRIPTION:
URL:https://www.eernissefuneralhome.com/obituaries/rosemarie-rose
LOCATION: N44W6055 Hamilton Road  Cedarburg WI 53012
GEO:43.2915018;-87.9846266
END:VEVENT
END:VCALENDAR