BEGIN:VCALENDAR
VERSION:2.0
PRODID:-//Tukios.com/
BEGIN:VEVENT
UID:8ba93f62-dabe-4fe9-96f9-9f08946b5209@www.eernissefuneralhome.com
DTSTAMP:20260423T230231Z
DTSTART:20260430T090000Z
DTEND:20260501T000000Z
SUMMARY:Visitation
DESCRIPTION:
URL:https://www.eernissefuneralhome.com/obituaries/rosemarie-rose
LOCATION: 1167 Washington Ave  Cedarburg WI 53012
GEO:43.3172522;-88.0026963
END:VEVENT
END:VCALENDAR