BEGIN:VCALENDAR
VERSION:2.0
PRODID:-//Tukios.com/
BEGIN:VEVENT
UID:6f25f5cb-fd9d-4a5a-badc-a89b9fd8372a@www.eernissefuneralhome.com
DTSTAMP:20260423T230008Z
DTSTART:20260501T170000Z
DTEND:20260501T180000Z
SUMMARY:Burial
DESCRIPTION:
URL:https://www.eernissefuneralhome.com/obituaries/rosemarie-rose
LOCATION: 7963 Pioneer Road  Cedarburg WI 53012
GEO:43.277902;-88.008752
END:VEVENT
END:VCALENDAR