BEGIN:VCALENDAR
VERSION:2.0
PRODID:-//Tukios.com/
BEGIN:VEVENT
UID:1e2ea3e8-2b74-4faf-8dfa-089c3e718617@www.eernissefuneralhome.com
DTSTAMP:20260425T235221Z
DTSTART:20260508T180000Z
DTEND:20260508T200000Z
SUMMARY:Visitation
DESCRIPTION:
URL:https://www.eernissefuneralhome.com/obituaries/remig-l-raffanti
LOCATION: 1167 Washington Ave  Cedarburg WI 53012
GEO:43.3172522;-88.0026963
END:VEVENT
END:VCALENDAR