BEGIN:VCALENDAR
VERSION:2.0
PRODID:-//Tukios.com/
BEGIN:VEVENT
UID:0d0dc964-97f7-4916-8b32-014897c9c62a@www.eernissefuneralhome.com
DTSTAMP:20260425T235028Z
DTSTART:20260508T200000Z
DTEND:20260508T210000Z
SUMMARY:Memorial Service
DESCRIPTION:
URL:https://www.eernissefuneralhome.com/obituaries/remig-l-raffanti
LOCATION: 1167 Washington Ave  Cedarburg WI 53012
GEO:43.3172522;-88.0026963
END:VEVENT
END:VCALENDAR