BEGIN:VCALENDAR
VERSION:2.0
PRODID:-//Tukios.com/
BEGIN:VEVENT
UID:af0be6aa-c129-49e1-9085-7136162b4f72@www.eernissefuneralhome.com
DTSTAMP:20260421T201434Z
DTSTART:20260430T150000Z
DTEND:20260430T160000Z
SUMMARY:Visitation
DESCRIPTION:
URL:https://www.eernissefuneralhome.com/obituaries/gordon-ferrell
LOCATION:Leonard Johnson & Son Funeral 8706 California Ave  Marmet WV 
	25315
GEO:38.2504905;-81.568362
END:VEVENT
END:VCALENDAR