BEGIN:VCALENDAR
VERSION:2.0
PRODID:-//Tukios.com/
BEGIN:VEVENT
UID:42d70c44-f0bc-4cf5-9b6d-c43132280c22@www.eernissefuneralhome.com
DTSTAMP:20260421T200737Z
DTSTART:20260430T170000Z
DTEND:20260430T180000Z
SUMMARY:Burial
DESCRIPTION:
URL:https://www.eernissefuneralhome.com/obituaries/gordon-ferrell
LOCATION:Pineview Cemetery 21557 Coal Rover Road  Orgas WV 25148
GEO:38.0721134;-81.5764372
END:VEVENT
END:VCALENDAR