BEGIN:VCALENDAR
VERSION:2.0
PRODID:-//Tukios.com/
BEGIN:VEVENT
UID:220a0a60-5669-4029-bf47-2d71224e0eee@www.eernissefuneralhome.com
DTSTAMP:20260421T201109Z
DTSTART:20260430T160000Z
DTEND:20260430T170000Z
SUMMARY:Funeral Service
DESCRIPTION:
URL:https://www.eernissefuneralhome.com/obituaries/gordon-ferrell
LOCATION:8706 California Ave 8706 California Ave  Marmet WV 25315
GEO:38.2504905;-81.568362
END:VEVENT
END:VCALENDAR