BEGIN:VCALENDAR
VERSION:2.0
PRODID:-//Tukios.com/
BEGIN:VEVENT
UID:a8d07a60-9744-40ab-b7d0-36ac000c5c04@www.eernissefuneralhome.com
DTSTAMP:20260423T011858Z
DTSTART:20260501T170000Z
DTEND:20260501T180000Z
SUMMARY:Prayer Service
DESCRIPTION:
URL:https://www.eernissefuneralhome.com/obituaries/gary-mede
LOCATION: 1167 Washington Ave  Cedarburg WI 53012
GEO:43.3172547;-88.0026924
END:VEVENT
END:VCALENDAR