BEGIN:VCALENDAR
VERSION:2.0
PRODID:-//Tukios.com/
BEGIN:VEVENT
UID:9602022a-df04-4f02-be31-0ea35984a13b@www.eernissefuneralhome.com
DTSTAMP:20260423T012037Z
DTSTART:20260501T160000Z
DTEND:20260501T170000Z
SUMMARY:Visitation
DESCRIPTION:
URL:https://www.eernissefuneralhome.com/obituaries/gary-mede
LOCATION: 1167 Washington Ave  Cedarburg WI 53012
GEO:43.3172547;-88.0026924
END:VEVENT
END:VCALENDAR