BEGIN:VCALENDAR
VERSION:2.0
PRODID:-//Tukios.com/
BEGIN:VEVENT
UID:992d1d6e-161d-4594-9183-ae0767da4fcd@www.eernissefuneralhome.com
DTSTAMP:20260422T222443Z
DTSTART:20260502T160000Z
DTEND:20260502T170000Z
SUMMARY:Funeral Service
DESCRIPTION:
URL:https://www.eernissefuneralhome.com/obituaries/erhard-jobs-2026
LOCATION:St. John’s Evangelical Lutheran Church 623 Congress Drive  
	Newburg WI 53060
GEO:43.4317278;-88.049833
END:VEVENT
END:VCALENDAR