BEGIN:VCALENDAR
VERSION:2.0
PRODID:-//Tukios.com/
BEGIN:VEVENT
UID:4e9f45f8-07c5-4f50-8c52-9b1c3ca92920@www.eernissefuneralhome.com
DTSTAMP:20260422T222208Z
DTSTART:20260502T140000Z
DTEND:20260502T160000Z
SUMMARY:Visitation
DESCRIPTION:
URL:https://www.eernissefuneralhome.com/obituaries/erhard-jobs-2026
LOCATION: 623 Congress Drive  Newburg WI 53060
GEO:43.4317278;-88.049833
END:VEVENT
END:VCALENDAR