BEGIN:VCALENDAR
VERSION:2.0
PRODID:-//Tukios.com/
BEGIN:VEVENT
UID:e9bfa636-1b77-4593-a7d0-b4e0afe8ef22@www.eernissefuneralhome.com
DTSTAMP:20260423T041928Z
DTSTART:20260502T163000Z
DTEND:20260502T170000Z
SUMMARY:Memorial Service
DESCRIPTION:
URL:https://www.eernissefuneralhome.com/obituaries/deborah-folz
LOCATION: 1600 W Grand Ave  Port Washington WI 53074
GEO:43.3880321;-87.9104759
END:VEVENT
END:VCALENDAR