BEGIN:VCALENDAR
VERSION:2.0
PRODID:-//Tukios.com/
BEGIN:VEVENT
UID:41545b67-4756-497c-b01d-cb6a911bcf67@www.eernissefuneralhome.com
DTSTAMP:20260423T041536Z
DTSTART:20260502T150000Z
DTEND:20260502T163000Z
SUMMARY:Memorial Gathering
DESCRIPTION:
URL:https://www.eernissefuneralhome.com/obituaries/deborah-folz
LOCATION: 1600 W Grand Ave  Port Washington WI 53074
GEO:43.3880321;-87.9104759
END:VEVENT
END:VCALENDAR