BEGIN:VCALENDAR
VERSION:2.0
PRODID:-//Tukios.com/
BEGIN:VEVENT
UID:26ca93b7-e7a9-4673-b042-a0781ba3ede7@www.eernissefuneralhome.com
DTSTAMP:20260423T050606Z
DTSTART:20260429T220000Z
DTEND:20260429T230000Z
SUMMARY:Mass
DESCRIPTION:
URL:https://www.eernissefuneralhome.com/obituaries/darrell-davis
LOCATION:Our Lady of the Lakes Catholic 230 Butler St  Random Lake WI 
	53075
GEO:43.5521753;-87.960512
END:VEVENT
END:VCALENDAR