BEGIN:VCALENDAR
VERSION:2.0
PRODID:-//Tukios.com/
BEGIN:VEVENT
UID:bd63db4a-865d-434d-a9c9-ac42cd171396@www.eernissefuneralhome.com
DTSTAMP:20260423T050433Z
DTSTART:20260429T200000Z
DTEND:20260429T220000Z
SUMMARY:Visitation
DESCRIPTION:
URL:https://www.eernissefuneralhome.com/obituaries/darrell-davis
LOCATION:Our Lady of the Lakes Catholic 230 Butler St  Random Lake WI 
	53075
GEO:43.5521753;-87.960512
END:VEVENT
END:VCALENDAR